BEGIN:VCALENDAR
VERSION:2.0
PRODID:-//Sängerbund Lichtenstein e.V. - ECPv5.16.1.1//NONSGML v1.0//EN
CALSCALE:GREGORIAN
METHOD:PUBLISH
X-WR-CALNAME:Sängerbund Lichtenstein e.V.
X-ORIGINAL-URL:https://saengerbund-lichtenstein.de
X-WR-CALDESC:Events for Sängerbund Lichtenstein e.V.
REFRESH-INTERVAL;VALUE=DURATION:PT1H
X-Robots-Tag:noindex
X-PUBLISHED-TTL:PT1H
BEGIN:VTIMEZONE
TZID:Europe/Berlin
BEGIN:DAYLIGHT
TZOFFSETFROM:+0100
TZOFFSETTO:+0200
TZNAME:CEST
DTSTART:20230326T010000
END:DAYLIGHT
BEGIN:STANDARD
TZOFFSETFROM:+0200
TZOFFSETTO:+0100
TZNAME:CET
DTSTART:20231029T010000
END:STANDARD
BEGIN:DAYLIGHT
TZOFFSETFROM:+0100
TZOFFSETTO:+0200
TZNAME:CEST
DTSTART:20240331T010000
END:DAYLIGHT
BEGIN:STANDARD
TZOFFSETFROM:+0200
TZOFFSETTO:+0100
TZNAME:CET
DTSTART:20241027T010000
END:STANDARD
BEGIN:DAYLIGHT
TZOFFSETFROM:+0100
TZOFFSETTO:+0200
TZNAME:CEST
DTSTART:20250330T010000
END:DAYLIGHT
BEGIN:STANDARD
TZOFFSETFROM:+0200
TZOFFSETTO:+0100
TZNAME:CET
DTSTART:20251026T010000
END:STANDARD
END:VTIMEZONE
BEGIN:VEVENT
DTSTART;TZID=Europe/Berlin:20230319T150000
DTEND;TZID=Europe/Berlin:20230319T180000
DTSTAMP:20260423T040627
CREATED:20230114T204110Z
LAST-MODIFIED:20230226T190318Z
UID:874-1679238000-1679248800@saengerbund-lichtenstein.de
SUMMARY:Musical "Ausgetickt" am 19. März 2023
DESCRIPTION:Alles was tickt spielt bei dem Musical „Ausgetickt?“ eine wichtige Rolle. Sanduhren\, Armbanduhren\, Radiowecker und Sonnenuhr. \nWir freuen uns auf unser nächstes Musical in der Lichtensteinhalle Unterhausen.
URL:https://saengerbund-lichtenstein.de/event/musical-ausgetickt-am-19-maerz-2023/
LOCATION:Lichtensteinhalle\, Rathauspl. 30\, Lichtenstein\, 72805
CATEGORIES:Jugendchor,Kidschor,Kinderchor
ATTACH;FMTTYPE=image/jpeg:https://saengerbund-lichtenstein.de/wp-content/uploads/2023/01/Plakat.jpg
END:VEVENT
BEGIN:VEVENT
DTSTART;TZID=Europe/Berlin:20230701T120000
DTEND;TZID=Europe/Berlin:20230701T170000
DTSTAMP:20260423T040627
CREATED:20230522T091244Z
LAST-MODIFIED:20230522T091244Z
UID:1011-1688212800-1688230800@saengerbund-lichtenstein.de
SUMMARY:Kinder- und Jugendaktionstag der Gemeinde Lichtenstein
DESCRIPTION:Auch in diesem Jahr\, sind der Kinder-\, Kids- und Jugendchor des Sängerbund Lichtenstein wieder auf dem Kinder- und Jugendaktionstag der Gemeinde Lichtenstein vertreten. An unserem Stand gibt es Waffeln und die Jugendlichen bieten allen an\, den „Cup-Song“ zu lernen. \nUnsere kleinsten Rocken die Enten und die Mittleren werden mit allen großen Menschen zu tanzenden Schmetterlingen. Kommt vorbei!
URL:https://saengerbund-lichtenstein.de/event/kinder-und-jugendaktionstag-der-gemeinde-lichtenstein/
LOCATION:Lichtensteinhalle\, Rathauspl. 30\, Lichtenstein\, 72805
CATEGORIES:Jugendchor,Kidschor,Kinderchor
ATTACH;FMTTYPE=image/jpeg:https://saengerbund-lichtenstein.de/wp-content/uploads/2023/03/1679426674464.jpg
END:VEVENT
BEGIN:VEVENT
DTSTART;TZID=Europe/Berlin:20231021T110000
DTEND;TZID=Europe/Berlin:20231021T120000
DTSTAMP:20260423T040627
CREATED:20230925T070138Z
LAST-MODIFIED:20230925T070138Z
UID:1055-1697886000-1697889600@saengerbund-lichtenstein.de
SUMMARY:Ortsseniorentag Unterhausen
DESCRIPTION:Der Kids- und Jugendchor gestalten den Ortsseniorentag mit.
URL:https://saengerbund-lichtenstein.de/event/ortsseniorentag-unterhausen/
LOCATION:Lichtensteinhalle\, Rathauspl. 30\, Lichtenstein\, 72805
CATEGORIES:Jugendchor,Kidschor
ATTACH;FMTTYPE=image/png:https://saengerbund-lichtenstein.de/wp-content/uploads/2022/03/Logo.png
END:VEVENT
BEGIN:VEVENT
DTSTART;TZID=Europe/Berlin:20240616T153000
DTEND;TZID=Europe/Berlin:20240616T180000
DTSTAMP:20260423T040627
CREATED:20230925T070252Z
LAST-MODIFIED:20240605T130023Z
UID:1057-1718551800-1718560800@saengerbund-lichtenstein.de
SUMMARY:Musicalaufführung "Kleiner Maulwurf - großer Tag"
DESCRIPTION:Wie jedes Jahr\, gibt es ein großes Musical
URL:https://saengerbund-lichtenstein.de/event/musicalauffuehrung/
LOCATION:Lichtensteinhalle\, Rathauspl. 30\, Lichtenstein\, 72805
CATEGORIES:Jugendchor,Kidschor,Kinderchor
ATTACH;FMTTYPE=image/png:https://saengerbund-lichtenstein.de/wp-content/uploads/2022/03/Logo.png
END:VEVENT
BEGIN:VEVENT
DTSTART;TZID=Europe/Berlin:20250705T173000
DTEND;TZID=Europe/Berlin:20250705T193000
DTSTAMP:20260423T040627
CREATED:20250127T182615Z
LAST-MODIFIED:20250630T101942Z
UID:1231-1751736600-1751743800@saengerbund-lichtenstein.de
SUMMARY:Jugendchorkonzert
DESCRIPTION:Im Rahmen des Kinder- und Jugendaktionstags\, führt der Jugendchor zum Abschluss in der Lichtensteinhalle das Musical Coco Superstar auf.
URL:https://saengerbund-lichtenstein.de/event/jugendchorkonzert/
LOCATION:Lichtensteinhalle\, Rathauspl. 30\, Lichtenstein\, 72805
CATEGORIES:Jugendchor,Kidschor
ATTACH;FMTTYPE=image/png:https://saengerbund-lichtenstein.de/wp-content/uploads/2022/03/Logo.png
END:VEVENT
BEGIN:VEVENT
DTSTART;TZID=Europe/Berlin:20251025T180000
DTEND;TZID=Europe/Berlin:20251025T230000
DTSTAMP:20260423T040627
CREATED:20250127T182757Z
LAST-MODIFIED:20251014T184644Z
UID:1235-1761415200-1761433200@saengerbund-lichtenstein.de
SUMMARY:170 Jähre Sängerbund Lichtenstein e.V.
DESCRIPTION:
URL:https://saengerbund-lichtenstein.de/event/170-jaehre-saengerbund-lichtenstein-e-v/
LOCATION:Lichtensteinhalle\, Rathauspl. 30\, Lichtenstein\, 72805
CATEGORIES:Jugendchor,Kidschor,Kinderchor,Lacuna,Männerchor,Omnia
ATTACH;FMTTYPE=image/jpeg:https://saengerbund-lichtenstein.de/wp-content/uploads/2025/01/WhatsApp-Image-2025-10-04-at-18.40.43.jpeg
END:VEVENT
END:VCALENDAR